BEGIN:VCALENDAR
VERSION:2.0
PRODID:-//communityofcarend.com//NONSGML kigkonsult.se iCalcreator 2.30.10/
 /
CALSCALE:GREGORIAN
METHOD:PUBLISH
UID:a22f9be1-a635-4951-9e46-731f4a9307f1
X-WR-CALDESC:Low impact exercise class
X-WR-RELCALID:2c5bd9ca023a9f75ba8b97bdc258dd7b
X-WR-TIMEZONE:America/Chicago
BEGIN:VTIMEZONE
TZID:America/Chicago
BEGIN:STANDARD
TZNAME:CST
DTSTART:20291104T020000
TZOFFSETFROM:-0500
TZOFFSETTO:-0600
RDATE:20301103T020000
END:STANDARD
BEGIN:DAYLIGHT
TZNAME:CDT
DTSTART:20290311T020000
TZOFFSETFROM:-0600
TZOFFSETTO:-0500
RDATE:20300310T020000
RDATE:20310309T020000
END:DAYLIGHT
END:VTIMEZONE
BEGIN:VEVENT
UID:00d2dc55-6703-484b-ac4f-7798c60113e9
DTSTAMP:20260422T084610Z
DESCRIPTION:Low impact exercise class
DTSTART;TZID=America/Chicago:20300204T103000
DTEND;TZID=America/Chicago:20300204T113000
LOCATION:Kindred City Hall
SUMMARY:Kindred Bone Builders
END:VEVENT
END:VCALENDAR
