BEGIN:VCALENDAR
VERSION:2.0
PRODID:-//communityofcarend.com//NONSGML kigkonsult.se iCalcreator 2.30.10/
 /
CALSCALE:GREGORIAN
METHOD:PUBLISH
UID:fadeafc5-f442-4ad8-9c2a-4303595c8fa3
X-WR-CALDESC:Low impact exercise class
X-WR-RELCALID:38a2629e86cded06cbe92dcb778cf2db
X-WR-TIMEZONE:America/Chicago
BEGIN:VTIMEZONE
TZID:America/Chicago
BEGIN:STANDARD
TZNAME:CST
DTSTART:20291104T020000
TZOFFSETFROM:-0500
TZOFFSETTO:-0600
RDATE:20301103T020000
END:STANDARD
BEGIN:DAYLIGHT
TZNAME:CDT
DTSTART:20290311T020000
TZOFFSETFROM:-0600
TZOFFSETTO:-0500
RDATE:20300310T020000
RDATE:20310309T020000
END:DAYLIGHT
END:VTIMEZONE
BEGIN:VEVENT
UID:dace71bb-ed79-4a56-82b5-6e9c31748862
DTSTAMP:20260422T072350Z
DESCRIPTION:Low impact exercise class
DTSTART;TZID=America/Chicago:20300128T103000
DTEND;TZID=America/Chicago:20300128T113000
LOCATION:Kindred City Hall
SUMMARY:Kindred Bone Builders
END:VEVENT
END:VCALENDAR
