BEGIN:VCALENDAR
VERSION:2.0
PRODID:-//communityofcarend.com//NONSGML kigkonsult.se iCalcreator 2.30.10/
 /
CALSCALE:GREGORIAN
METHOD:PUBLISH
UID:da7a2d4b-de7c-4d6d-b5ea-b9ea436f0798
X-WR-CALDESC:Bone Builder Exercise Class
X-WR-RELCALID:0dbca2882245c91dbceb2dc6e76b0a07
X-WR-TIMEZONE:America/Chicago
BEGIN:VTIMEZONE
TZID:America/Chicago
BEGIN:STANDARD
TZNAME:CST
DTSTART:20291104T020000
TZOFFSETFROM:-0500
TZOFFSETTO:-0600
RDATE:20301103T020000
END:STANDARD
BEGIN:DAYLIGHT
TZNAME:CDT
DTSTART:20290311T020000
TZOFFSETFROM:-0600
TZOFFSETTO:-0500
RDATE:20300310T020000
RDATE:20310309T020000
END:DAYLIGHT
END:VTIMEZONE
BEGIN:VEVENT
UID:e80ff989-a807-4caa-a622-2cd12640848a
DTSTAMP:20260422T073326Z
DESCRIPTION:Bone Builder Exercise Class
DTSTART;TZID=America/Chicago:20300117T100000
DTEND;TZID=America/Chicago:20300117T110000
LOCATION:Horace Senior Center
SUMMARY:Horace Bone Builders
END:VEVENT
END:VCALENDAR
