BEGIN:VCALENDAR
VERSION:2.0
PRODID:-//communityofcarend.com//NONSGML kigkonsult.se iCalcreator 2.30.10/
 /
CALSCALE:GREGORIAN
METHOD:PUBLISH
UID:26a7afa7-3fcf-4008-b5da-cea97febf5d3
X-WR-CALDESC:Bone Builder Exercise Class
X-WR-RELCALID:0bdad543e0d20ea6123abdeec31b8b43
X-WR-TIMEZONE:America/Chicago
BEGIN:VTIMEZONE
TZID:America/Chicago
BEGIN:STANDARD
TZNAME:CST
DTSTART:20291104T020000
TZOFFSETFROM:-0500
TZOFFSETTO:-0600
RDATE:20301103T020000
END:STANDARD
BEGIN:DAYLIGHT
TZNAME:CDT
DTSTART:20290311T020000
TZOFFSETFROM:-0600
TZOFFSETTO:-0500
RDATE:20300310T020000
RDATE:20310309T020000
END:DAYLIGHT
END:VTIMEZONE
BEGIN:VEVENT
UID:5d207b52-9f89-428e-b902-394c91baf405
DTSTAMP:20260422T073310Z
DESCRIPTION:Bone Builder Exercise Class
DTSTART;TZID=America/Chicago:20300114T100000
DTEND;TZID=America/Chicago:20300114T110000
LOCATION:Horace Senior Center
SUMMARY:Horace Bone Builders
END:VEVENT
END:VCALENDAR
