BEGIN:VCALENDAR
VERSION:2.0
PRODID:-//communityofcarend.com//NONSGML kigkonsult.se iCalcreator 2.30.10/
 /
CALSCALE:GREGORIAN
METHOD:PUBLISH
UID:acb7865b-010d-4a3c-b7da-6cb4653fa0b8
X-WR-CALDESC:
X-WR-RELCALID:5576fd6617c6aea36d853c9f37e06fb6
X-WR-TIMEZONE:America/Chicago
BEGIN:VTIMEZONE
TZID:America/Chicago
BEGIN:STANDARD
TZNAME:CST
DTSTART:20291104T020000
TZOFFSETFROM:-0500
TZOFFSETTO:-0600
RDATE:20301103T020000
END:STANDARD
BEGIN:DAYLIGHT
TZNAME:CDT
DTSTART:20290311T020000
TZOFFSETFROM:-0600
TZOFFSETTO:-0500
RDATE:20300310T020000
RDATE:20310309T020000
END:DAYLIGHT
END:VTIMEZONE
BEGIN:VEVENT
UID:7447a791-2c5f-4fe8-9cbd-afa0442b211e
DTSTAMP:20260422T060414Z
DESCRIPTION:
DTSTART;TZID=America/Chicago:20291231T093000
DTEND;TZID=America/Chicago:20291231T103000
LOCATION:Davenport School
SUMMARY:Davenport Bone Builders
END:VEVENT
END:VCALENDAR
