BEGIN:VCALENDAR
VERSION:2.0
PRODID:-//communityofcarend.com//NONSGML kigkonsult.se iCalcreator 2.30.10/
 /
CALSCALE:GREGORIAN
METHOD:PUBLISH
UID:bdb947bb-cf08-4b5f-94cf-605df8b20977
X-WR-CALDESC:Bone Builder Exercise Class
X-WR-RELCALID:3e63df2d531d8ba0d9ed11094e01d120
X-WR-TIMEZONE:America/Chicago
BEGIN:VTIMEZONE
TZID:America/Chicago
BEGIN:STANDARD
TZNAME:CST
DTSTART:20291104T020000
TZOFFSETFROM:-0500
TZOFFSETTO:-0600
RDATE:20301103T020000
END:STANDARD
BEGIN:DAYLIGHT
TZNAME:CDT
DTSTART:20290311T020000
TZOFFSETFROM:-0600
TZOFFSETTO:-0500
RDATE:20300310T020000
RDATE:20310309T020000
END:DAYLIGHT
END:VTIMEZONE
BEGIN:VEVENT
UID:baca27a3-8041-4e14-9153-cd850b1f2b74
DTSTAMP:20260422T060046Z
DESCRIPTION:Bone Builder Exercise Class
DTSTART;TZID=America/Chicago:20291224T100000
DTEND;TZID=America/Chicago:20291224T110000
LOCATION:Horace Senior Center
SUMMARY:Horace Bone Builders
END:VEVENT
END:VCALENDAR
