BEGIN:VCALENDAR
VERSION:2.0
PRODID:-//communityofcarend.com//NONSGML kigkonsult.se iCalcreator 2.30.10/
 /
CALSCALE:GREGORIAN
METHOD:PUBLISH
UID:3426c495-48f0-4fd0-9393-d1ce49af7955
X-WR-CALDESC:Low-impact exercise classes.
X-WR-RELCALID:76c3f87bb336c4c546dec403243f18d2
X-WR-TIMEZONE:America/Chicago
BEGIN:VTIMEZONE
TZID:America/Chicago
BEGIN:STANDARD
TZNAME:CST
DTSTART:20291104T020000
TZOFFSETFROM:-0500
TZOFFSETTO:-0600
RDATE:20301103T020000
END:STANDARD
BEGIN:DAYLIGHT
TZNAME:CDT
DTSTART:20290311T020000
TZOFFSETFROM:-0600
TZOFFSETTO:-0500
RDATE:20300310T020000
RDATE:20310309T020000
END:DAYLIGHT
END:VTIMEZONE
BEGIN:VEVENT
UID:457a970c-e94d-4441-bdeb-38929a4a3666
DTSTAMP:20260422T055730Z
DESCRIPTION:Low-impact exercise classes.
DTSTART;TZID=America/Chicago:20291221T103000
DTEND;TZID=America/Chicago:20291221T113000
LOCATION:Kindred City Hall
SUMMARY:Kindred Bone Builders
END:VEVENT
END:VCALENDAR
