BEGIN:VCALENDAR
VERSION:2.0
PRODID:-//communityofcarend.com//NONSGML kigkonsult.se iCalcreator 2.30.10/
 /
CALSCALE:GREGORIAN
METHOD:PUBLISH
UID:c4efc4b1-fe0a-4c0a-83c9-d7c3e9dbbd99
X-WR-CALDESC:Low impact exercise class
X-WR-RELCALID:acb32af902de679e67209a102f927bc0
X-WR-TIMEZONE:America/Chicago
BEGIN:VTIMEZONE
TZID:America/Chicago
BEGIN:STANDARD
TZNAME:CST
DTSTART:20291104T020000
TZOFFSETFROM:-0500
TZOFFSETTO:-0600
RDATE:20301103T020000
END:STANDARD
BEGIN:DAYLIGHT
TZNAME:CDT
DTSTART:20290311T020000
TZOFFSETFROM:-0600
TZOFFSETTO:-0500
RDATE:20300310T020000
RDATE:20310309T020000
END:DAYLIGHT
END:VTIMEZONE
BEGIN:VEVENT
UID:0f641d4c-cf6b-47e0-ad9e-39cce8c849ce
DTSTAMP:20260422T055950Z
DESCRIPTION:Low impact exercise class
DTSTART;TZID=America/Chicago:20291217T103000
DTEND;TZID=America/Chicago:20291217T113000
LOCATION:Kindred City Hall
SUMMARY:Kindred Bone Builders
END:VEVENT
END:VCALENDAR
