BEGIN:VCALENDAR
VERSION:2.0
PRODID:-//communityofcarend.com//NONSGML kigkonsult.se iCalcreator 2.30.10/
 /
CALSCALE:GREGORIAN
METHOD:PUBLISH
UID:3ff23f26-8371-47eb-a7a7-a30378833d5b
X-WR-CALDESC:Bone Builder Exercise Class
X-WR-RELCALID:895ad8024f5bf5c18af2e8ef2ef1ff1d
X-WR-TIMEZONE:America/Chicago
BEGIN:VTIMEZONE
TZID:America/Chicago
BEGIN:STANDARD
TZNAME:CST
DTSTART:20291104T020000
TZOFFSETFROM:-0500
TZOFFSETTO:-0600
RDATE:20301103T020000
END:STANDARD
BEGIN:DAYLIGHT
TZNAME:CDT
DTSTART:20290311T020000
TZOFFSETFROM:-0600
TZOFFSETTO:-0500
RDATE:20300310T020000
RDATE:20310309T020000
END:DAYLIGHT
END:VTIMEZONE
BEGIN:VEVENT
UID:149be72e-f27e-4726-9992-3c31f9053412
DTSTAMP:20260422T060107Z
DESCRIPTION:Bone Builder Exercise Class
DTSTART;TZID=America/Chicago:20291217T100000
DTEND;TZID=America/Chicago:20291217T110000
LOCATION:Horace Senior Center
SUMMARY:Horace Bone Builders
END:VEVENT
END:VCALENDAR
