BEGIN:VCALENDAR
VERSION:2.0
PRODID:-//communityofcarend.com//NONSGML kigkonsult.se iCalcreator 2.30.10/
 /
CALSCALE:GREGORIAN
METHOD:PUBLISH
UID:b312d25e-fe1c-4616-a855-b85e609efe3e
X-WR-CALDESC:Low-impact exercise classes.
X-WR-RELCALID:be90cec0613f42499a44f8a832ec7538
X-WR-TIMEZONE:America/Chicago
BEGIN:VTIMEZONE
TZID:America/Chicago
BEGIN:STANDARD
TZNAME:CST
DTSTART:20291104T020000
TZOFFSETFROM:-0500
TZOFFSETTO:-0600
RDATE:20301103T020000
END:STANDARD
BEGIN:DAYLIGHT
TZNAME:CDT
DTSTART:20290311T020000
TZOFFSETFROM:-0600
TZOFFSETTO:-0500
RDATE:20300310T020000
RDATE:20310309T020000
END:DAYLIGHT
END:VTIMEZONE
BEGIN:VEVENT
UID:f34a7e5b-d977-48ea-a469-2d6c2facae56
DTSTAMP:20260422T055952Z
DESCRIPTION:Low-impact exercise classes.
DTSTART;TZID=America/Chicago:20291214T103000
DTEND;TZID=America/Chicago:20291214T113000
LOCATION:Kindred City Hall
SUMMARY:Kindred Bone Builders
END:VEVENT
END:VCALENDAR
