BEGIN:VCALENDAR
VERSION:2.0
PRODID:-//communityofcarend.com//NONSGML kigkonsult.se iCalcreator 2.30.10/
 /
CALSCALE:GREGORIAN
METHOD:PUBLISH
UID:e386ed8c-f027-48ee-a96b-12d15832a630
X-WR-CALDESC:Bone Builder Exercise Class
X-WR-RELCALID:9cbc2e63a55798c44cb44b1de78d32c9
X-WR-TIMEZONE:America/Chicago
BEGIN:VTIMEZONE
TZID:America/Chicago
BEGIN:STANDARD
TZNAME:CST
DTSTART:20291104T020000
TZOFFSETFROM:-0500
TZOFFSETTO:-0600
RDATE:20301103T020000
END:STANDARD
BEGIN:DAYLIGHT
TZNAME:CDT
DTSTART:20290311T020000
TZOFFSETFROM:-0600
TZOFFSETTO:-0500
RDATE:20300310T020000
RDATE:20310309T020000
END:DAYLIGHT
END:VTIMEZONE
BEGIN:VEVENT
UID:ebd801b5-bf46-479a-89d9-28ce613a6376
DTSTAMP:20260422T060030Z
DESCRIPTION:Bone Builder Exercise Class
DTSTART;TZID=America/Chicago:20291213T100000
DTEND;TZID=America/Chicago:20291213T110000
LOCATION:Horace Senior Center
SUMMARY:Horace Bone Builders
END:VEVENT
END:VCALENDAR
