BEGIN:VCALENDAR
VERSION:2.0
PRODID:-//communityofcarend.com//NONSGML kigkonsult.se iCalcreator 2.30.10/
 /
CALSCALE:GREGORIAN
METHOD:PUBLISH
UID:541dd159-9e2c-43bb-8203-6700706399c9
X-WR-CALDESC:
X-WR-RELCALID:2acf553746493f43b822acb485a4676e
X-WR-TIMEZONE:America/Chicago
BEGIN:VTIMEZONE
TZID:America/Chicago
BEGIN:STANDARD
TZNAME:CST
DTSTART:20291104T020000
TZOFFSETFROM:-0500
TZOFFSETTO:-0600
RDATE:20301103T020000
END:STANDARD
BEGIN:DAYLIGHT
TZNAME:CDT
DTSTART:20290311T020000
TZOFFSETFROM:-0600
TZOFFSETTO:-0500
RDATE:20300310T020000
RDATE:20310309T020000
END:DAYLIGHT
END:VTIMEZONE
BEGIN:VEVENT
UID:f8487d42-408a-41a2-9eab-a44cffd92153
DTSTAMP:20260422T060047Z
DESCRIPTION:
DTSTART;TZID=America/Chicago:20291213T090000
DTEND;TZID=America/Chicago:20291213T100000
LOCATION:Tower City Community Center
SUMMARY:Tower City Bone Builders
END:VEVENT
END:VCALENDAR
