BEGIN:VCALENDAR
VERSION:2.0
PRODID:-//communityofcarend.com//NONSGML kigkonsult.se iCalcreator 2.30.10/
 /
CALSCALE:GREGORIAN
METHOD:PUBLISH
UID:40a21199-902e-4f3c-879c-dd8003dd3c1b
X-WR-CALDESC:Low-impact exercise classes.
X-WR-RELCALID:222f301ac5ad70b10b7b77e3ed9fd495
X-WR-TIMEZONE:America/Chicago
BEGIN:VTIMEZONE
TZID:America/Chicago
BEGIN:STANDARD
TZNAME:CST
DTSTART:20291104T020000
TZOFFSETFROM:-0500
TZOFFSETTO:-0600
RDATE:20301103T020000
END:STANDARD
BEGIN:DAYLIGHT
TZNAME:CDT
DTSTART:20290311T020000
TZOFFSETFROM:-0600
TZOFFSETTO:-0500
RDATE:20300310T020000
RDATE:20310309T020000
END:DAYLIGHT
END:VTIMEZONE
BEGIN:VEVENT
UID:d4e619a1-6136-4015-b361-27488a3f03c9
DTSTAMP:20260422T055917Z
DESCRIPTION:Low-impact exercise classes.
DTSTART;TZID=America/Chicago:20291207T103000
DTEND;TZID=America/Chicago:20291207T113000
LOCATION:Kindred City Hall
SUMMARY:Kindred Bone Builders
END:VEVENT
END:VCALENDAR
