BEGIN:VCALENDAR
VERSION:2.0
PRODID:-//communityofcarend.com//NONSGML kigkonsult.se iCalcreator 2.30.10/
 /
CALSCALE:GREGORIAN
METHOD:PUBLISH
UID:566ae81d-3294-4bb4-9cfc-a16b63a0b0bb
X-WR-CALDESC:Low impact exercise class
X-WR-RELCALID:058de70c10eb6241486855f3b3a6715d
X-WR-TIMEZONE:America/Chicago
BEGIN:VTIMEZONE
TZID:America/Chicago
BEGIN:STANDARD
TZNAME:CST
DTSTART:20291104T020000
TZOFFSETFROM:-0500
TZOFFSETTO:-0600
RDATE:20301103T020000
END:STANDARD
BEGIN:DAYLIGHT
TZNAME:CDT
DTSTART:20290311T020000
TZOFFSETFROM:-0600
TZOFFSETTO:-0500
RDATE:20300310T020000
RDATE:20310309T020000
END:DAYLIGHT
END:VTIMEZONE
BEGIN:VEVENT
UID:0c646174-fb4f-4332-a73c-2dad0077cb83
DTSTAMP:20260422T055919Z
DESCRIPTION:Low impact exercise class
DTSTART;TZID=America/Chicago:20291203T103000
DTEND;TZID=America/Chicago:20291203T113000
LOCATION:Kindred City Hall
SUMMARY:Kindred Bone Builders
END:VEVENT
END:VCALENDAR
