BEGIN:VCALENDAR
VERSION:2.0
PRODID:-//communityofcarend.com//NONSGML kigkonsult.se iCalcreator 2.30.10/
 /
CALSCALE:GREGORIAN
METHOD:PUBLISH
UID:fb5bb55f-6431-48d6-9bb5-f70209c22de5
X-WR-CALDESC:Low-impact exercise classes.
X-WR-RELCALID:24e24b29efb153e196a7c86b4509cb2c
X-WR-TIMEZONE:America/Chicago
BEGIN:VTIMEZONE
TZID:America/Chicago
BEGIN:STANDARD
TZNAME:CST
DTSTART:20291104T020000
TZOFFSETFROM:-0500
TZOFFSETTO:-0600
RDATE:20301103T020000
END:STANDARD
BEGIN:DAYLIGHT
TZNAME:CDT
DTSTART:20290311T020000
TZOFFSETFROM:-0600
TZOFFSETTO:-0500
RDATE:20300310T020000
RDATE:20310309T020000
END:DAYLIGHT
END:VTIMEZONE
BEGIN:VEVENT
UID:a32f602f-1102-444d-af3b-a71ff970bfc2
DTSTAMP:20260422T043538Z
DESCRIPTION:Low-impact exercise classes.
DTSTART;TZID=America/Chicago:20291130T103000
DTEND;TZID=America/Chicago:20291130T113000
LOCATION:Kindred City Hall
SUMMARY:Kindred Bone Builders
END:VEVENT
END:VCALENDAR
