BEGIN:VCALENDAR
VERSION:2.0
PRODID:-//communityofcarend.com//NONSGML kigkonsult.se iCalcreator 2.30.10/
 /
CALSCALE:GREGORIAN
METHOD:PUBLISH
UID:fe944f5d-a190-49b2-9ce8-696954e1cf9c
X-WR-CALDESC:Low-impact exercise classes.
X-WR-RELCALID:a801895da16872ead3e890d4c04675f0
X-WR-TIMEZONE:America/Chicago
BEGIN:VTIMEZONE
TZID:America/Chicago
BEGIN:STANDARD
TZNAME:CST
DTSTART:20291104T020000
TZOFFSETFROM:-0500
TZOFFSETTO:-0600
RDATE:20301103T020000
END:STANDARD
BEGIN:DAYLIGHT
TZNAME:CDT
DTSTART:20290311T020000
TZOFFSETFROM:-0600
TZOFFSETTO:-0500
RDATE:20300310T020000
RDATE:20310309T020000
END:DAYLIGHT
END:VTIMEZONE
BEGIN:VEVENT
UID:b120b450-c522-4889-9ff0-d1fd01578346
DTSTAMP:20260422T043512Z
DESCRIPTION:Low-impact exercise classes.
DTSTART;TZID=America/Chicago:20291123T103000
DTEND;TZID=America/Chicago:20291123T113000
LOCATION:Kindred City Hall
SUMMARY:Kindred Bone Builders
END:VEVENT
END:VCALENDAR
