BEGIN:VCALENDAR
VERSION:2.0
PRODID:-//communityofcarend.com//NONSGML kigkonsult.se iCalcreator 2.30.10/
 /
CALSCALE:GREGORIAN
METHOD:PUBLISH
UID:c906d17b-38d2-48d3-b20f-34452c4b7ca9
X-WR-CALDESC:Low impact exercise class
X-WR-RELCALID:642a9b964b5cd6c18fc2f702622f6de4
X-WR-TIMEZONE:America/Chicago
BEGIN:VTIMEZONE
TZID:America/Chicago
BEGIN:STANDARD
TZNAME:CST
DTSTART:20291104T020000
TZOFFSETFROM:-0500
TZOFFSETTO:-0600
RDATE:20301103T020000
END:STANDARD
BEGIN:DAYLIGHT
TZNAME:CDT
DTSTART:20290311T020000
TZOFFSETFROM:-0600
TZOFFSETTO:-0500
RDATE:20300310T020000
RDATE:20310309T020000
END:DAYLIGHT
END:VTIMEZONE
BEGIN:VEVENT
UID:95b7fd38-78eb-441d-9aed-e07d0a6d2b4c
DTSTAMP:20260422T043632Z
DESCRIPTION:Low impact exercise class
DTSTART;TZID=America/Chicago:20291119T103000
DTEND;TZID=America/Chicago:20291119T113000
LOCATION:Kindred City Hall
SUMMARY:Kindred Bone Builders
END:VEVENT
END:VCALENDAR
