BEGIN:VCALENDAR
VERSION:2.0
PRODID:-//communityofcarend.com//NONSGML kigkonsult.se iCalcreator 2.30.10/
 /
CALSCALE:GREGORIAN
METHOD:PUBLISH
UID:eec5876c-7444-4c61-9f5f-cbceb392e1e5
X-WR-CALDESC:Low-impact exercise classes.
X-WR-RELCALID:98f7062b89b453f01b86b2780b7c491a
X-WR-TIMEZONE:America/Chicago
BEGIN:VTIMEZONE
TZID:America/Chicago
BEGIN:STANDARD
TZNAME:CST
DTSTART:20291104T020000
TZOFFSETFROM:-0500
TZOFFSETTO:-0600
RDATE:20301103T020000
END:STANDARD
BEGIN:DAYLIGHT
TZNAME:CDT
DTSTART:20290311T020000
TZOFFSETFROM:-0600
TZOFFSETTO:-0500
RDATE:20300310T020000
RDATE:20310309T020000
END:DAYLIGHT
END:VTIMEZONE
BEGIN:VEVENT
UID:f8817927-f35e-4b21-acd5-79aeb3e647af
DTSTAMP:20260422T043631Z
DESCRIPTION:Low-impact exercise classes.
DTSTART;TZID=America/Chicago:20291116T103000
DTEND;TZID=America/Chicago:20291116T113000
LOCATION:Kindred City Hall
SUMMARY:Kindred Bone Builders
END:VEVENT
END:VCALENDAR
