BEGIN:VCALENDAR
VERSION:2.0
PRODID:-//communityofcarend.com//NONSGML kigkonsult.se iCalcreator 2.30.10/
 /
CALSCALE:GREGORIAN
METHOD:PUBLISH
UID:d037b1d8-c776-440b-9e9e-af424462715e
X-WR-CALDESC:Bone Builder Exercise Class
X-WR-RELCALID:06256ae0201187c1cce48a583a0f3635
X-WR-TIMEZONE:America/Chicago
BEGIN:VTIMEZONE
TZID:America/Chicago
BEGIN:STANDARD
TZNAME:CST
DTSTART:20291104T020000
TZOFFSETFROM:-0500
TZOFFSETTO:-0600
RDATE:20301103T020000
END:STANDARD
BEGIN:DAYLIGHT
TZNAME:CDT
DTSTART:20290311T020000
TZOFFSETFROM:-0600
TZOFFSETTO:-0500
RDATE:20300310T020000
RDATE:20310309T020000
END:DAYLIGHT
END:VTIMEZONE
BEGIN:VEVENT
UID:97907b51-46f9-4024-baf9-e8a9672ded5d
DTSTAMP:20260422T044318Z
DESCRIPTION:Bone Builder Exercise Class
DTSTART;TZID=America/Chicago:20291115T100000
DTEND;TZID=America/Chicago:20291115T110000
LOCATION:Horace Senior Center
SUMMARY:Horace Bone Builders
END:VEVENT
END:VCALENDAR
