BEGIN:VCALENDAR
VERSION:2.0
PRODID:-//communityofcarend.com//NONSGML kigkonsult.se iCalcreator 2.30.10/
 /
CALSCALE:GREGORIAN
METHOD:PUBLISH
UID:dd3e2983-6deb-4b92-b73f-b51c6215eea8
X-WR-CALDESC:Low-impact exercise classes.
X-WR-RELCALID:574edb664b3a71b2786776b533c3fca3
X-WR-TIMEZONE:America/Chicago
BEGIN:VTIMEZONE
TZID:America/Chicago
BEGIN:STANDARD
TZNAME:CST
DTSTART:20291104T020000
TZOFFSETFROM:-0500
TZOFFSETTO:-0600
RDATE:20301103T020000
END:STANDARD
BEGIN:DAYLIGHT
TZNAME:CDT
DTSTART:20290311T020000
TZOFFSETFROM:-0600
TZOFFSETTO:-0500
RDATE:20300310T020000
RDATE:20310309T020000
END:DAYLIGHT
END:VTIMEZONE
BEGIN:VEVENT
UID:8c1a0181-b176-405e-97ea-bcd582093c94
DTSTAMP:20260422T043532Z
DESCRIPTION:Low-impact exercise classes.
DTSTART;TZID=America/Chicago:20291109T103000
DTEND;TZID=America/Chicago:20291109T113000
LOCATION:Kindred City Hall
SUMMARY:Kindred Bone Builders
END:VEVENT
END:VCALENDAR
