BEGIN:VCALENDAR
VERSION:2.0
PRODID:-//communityofcarend.com//NONSGML kigkonsult.se iCalcreator 2.30.10/
 /
CALSCALE:GREGORIAN
METHOD:PUBLISH
UID:ecdbd929-a194-40e1-9261-d24076b1cbb1
X-WR-CALDESC:Bone Builder Exercise Class
X-WR-RELCALID:cd22213cb6d2c4b02c278f227af4201e
X-WR-TIMEZONE:America/Chicago
BEGIN:VTIMEZONE
TZID:America/Chicago
BEGIN:STANDARD
TZNAME:CST
DTSTART:20291104T020000
TZOFFSETFROM:-0500
TZOFFSETTO:-0600
RDATE:20301103T020000
END:STANDARD
BEGIN:DAYLIGHT
TZNAME:CDT
DTSTART:20290311T020000
TZOFFSETFROM:-0600
TZOFFSETTO:-0500
RDATE:20300310T020000
RDATE:20310309T020000
END:DAYLIGHT
END:VTIMEZONE
BEGIN:VEVENT
UID:13a4ac36-83fa-451d-a058-5c6a1a829e56
DTSTAMP:20260422T044144Z
DESCRIPTION:Bone Builder Exercise Class
DTSTART;TZID=America/Chicago:20291108T100000
DTEND;TZID=America/Chicago:20291108T110000
LOCATION:Horace Senior Center
SUMMARY:Horace Bone Builders
END:VEVENT
END:VCALENDAR
