BEGIN:VCALENDAR
VERSION:2.0
PRODID:-//communityofcarend.com//NONSGML kigkonsult.se iCalcreator 2.30.10/
 /
CALSCALE:GREGORIAN
METHOD:PUBLISH
UID:e60e2a9f-335a-49fc-b2c7-595ffbd09a79
X-WR-CALDESC:Bone Builder Exercise Class
X-WR-RELCALID:3afae3e48321c70911dd2f1a9148f9ec
X-WR-TIMEZONE:America/Chicago
BEGIN:VTIMEZONE
TZID:America/Chicago
BEGIN:STANDARD
TZNAME:CST
DTSTART:20281105T020000
TZOFFSETFROM:-0500
TZOFFSETTO:-0600
RDATE:20291104T020000
RDATE:20301103T020000
END:STANDARD
BEGIN:DAYLIGHT
TZNAME:CDT
DTSTART:20290311T020000
TZOFFSETFROM:-0600
TZOFFSETTO:-0500
RDATE:20300310T020000
RDATE:20310309T020000
END:DAYLIGHT
END:VTIMEZONE
BEGIN:VEVENT
UID:4d289bea-48e6-4436-b40c-046f148ef6c9
DTSTAMP:20260422T044521Z
DESCRIPTION:Bone Builder Exercise Class
DTSTART;TZID=America/Chicago:20291101T100000
DTEND;TZID=America/Chicago:20291101T110000
LOCATION:Horace Senior Center
SUMMARY:Horace Bone Builders
END:VEVENT
END:VCALENDAR
