BEGIN:VCALENDAR
VERSION:2.0
PRODID:-//communityofcarend.com//NONSGML kigkonsult.se iCalcreator 2.30.10/
 /
CALSCALE:GREGORIAN
METHOD:PUBLISH
UID:fbe6d129-d5fd-4d21-af9b-d567db09dd00
X-WR-CALDESC:Low-impact exercise classes.
X-WR-RELCALID:e70da7b292b0905b0c0328d76fa43baf
X-WR-TIMEZONE:America/Chicago
BEGIN:VTIMEZONE
TZID:America/Chicago
BEGIN:STANDARD
TZNAME:CST
DTSTART:20281105T020000
TZOFFSETFROM:-0500
TZOFFSETTO:-0600
RDATE:20291104T020000
RDATE:20301103T020000
END:STANDARD
BEGIN:DAYLIGHT
TZNAME:CDT
DTSTART:20290311T020000
TZOFFSETFROM:-0600
TZOFFSETTO:-0500
RDATE:20300310T020000
RDATE:20310309T020000
END:DAYLIGHT
END:VTIMEZONE
BEGIN:VEVENT
UID:2fc37a11-785b-4145-99b1-4c0fe09ca642
DTSTAMP:20260422T031700Z
DESCRIPTION:Low-impact exercise classes.
DTSTART;TZID=America/Chicago:20291026T103000
DTEND;TZID=America/Chicago:20291026T113000
LOCATION:Kindred City Hall
SUMMARY:Kindred Bone Builders
END:VEVENT
END:VCALENDAR
