BEGIN:VCALENDAR
VERSION:2.0
PRODID:-//communityofcarend.com//NONSGML kigkonsult.se iCalcreator 2.30.10/
 /
CALSCALE:GREGORIAN
METHOD:PUBLISH
UID:4e3981f5-06aa-4dac-b802-fb18b5f5961d
X-WR-CALDESC:Bone Builder Exercise Class
X-WR-RELCALID:0f2ab5adf92c3bcffc184bed1141337a
X-WR-TIMEZONE:America/Chicago
BEGIN:VTIMEZONE
TZID:America/Chicago
BEGIN:STANDARD
TZNAME:CST
DTSTART:20281105T020000
TZOFFSETFROM:-0500
TZOFFSETTO:-0600
RDATE:20291104T020000
RDATE:20301103T020000
END:STANDARD
BEGIN:DAYLIGHT
TZNAME:CDT
DTSTART:20290311T020000
TZOFFSETFROM:-0600
TZOFFSETTO:-0500
RDATE:20300310T020000
RDATE:20310309T020000
END:DAYLIGHT
END:VTIMEZONE
BEGIN:VEVENT
UID:778b0291-f150-412a-927b-11e9588d86a4
DTSTAMP:20260422T031817Z
DESCRIPTION:Bone Builder Exercise Class
DTSTART;TZID=America/Chicago:20291018T100000
DTEND;TZID=America/Chicago:20291018T110000
LOCATION:Horace Senior Center
SUMMARY:Horace Bone Builders
END:VEVENT
END:VCALENDAR
