BEGIN:VCALENDAR
VERSION:2.0
PRODID:-//communityofcarend.com//NONSGML kigkonsult.se iCalcreator 2.30.10/
 /
CALSCALE:GREGORIAN
METHOD:PUBLISH
UID:86ff3fc3-2da9-49e8-b7a9-34efef4f62c3
X-WR-CALDESC:
X-WR-RELCALID:9c486a8c6478e8cb4543cbeba913b0f1
X-WR-TIMEZONE:America/Chicago
BEGIN:VTIMEZONE
TZID:America/Chicago
BEGIN:STANDARD
TZNAME:CST
DTSTART:20281105T020000
TZOFFSETFROM:-0500
TZOFFSETTO:-0600
RDATE:20291104T020000
RDATE:20301103T020000
END:STANDARD
BEGIN:DAYLIGHT
TZNAME:CDT
DTSTART:20290311T020000
TZOFFSETFROM:-0600
TZOFFSETTO:-0500
RDATE:20300310T020000
RDATE:20310309T020000
END:DAYLIGHT
END:VTIMEZONE
BEGIN:VEVENT
UID:6adf6607-9c80-47a4-aa0f-88bcc5d79bd4
DTSTAMP:20260422T033941Z
DESCRIPTION:
DTSTART;TZID=America/Chicago:20291016T090000
DTEND;TZID=America/Chicago:20291016T100000
LOCATION:Tower City Community Center
SUMMARY:Tower City Bone Builders
END:VEVENT
END:VCALENDAR
