BEGIN:VCALENDAR
VERSION:2.0
PRODID:-//communityofcarend.com//NONSGML kigkonsult.se iCalcreator 2.30.10/
 /
CALSCALE:GREGORIAN
METHOD:PUBLISH
UID:5930317e-22c6-4f6a-9e99-142b7d2bb503
X-WR-CALDESC:Low-impact exercise classes.
X-WR-RELCALID:acb39f2e4d952ae17302918a282387b0
X-WR-TIMEZONE:America/Chicago
BEGIN:VTIMEZONE
TZID:America/Chicago
BEGIN:STANDARD
TZNAME:CST
DTSTART:20281105T020000
TZOFFSETFROM:-0500
TZOFFSETTO:-0600
RDATE:20291104T020000
RDATE:20301103T020000
END:STANDARD
BEGIN:DAYLIGHT
TZNAME:CDT
DTSTART:20290311T020000
TZOFFSETFROM:-0600
TZOFFSETTO:-0500
RDATE:20300310T020000
RDATE:20310309T020000
END:DAYLIGHT
END:VTIMEZONE
BEGIN:VEVENT
UID:8fc83242-ae3e-4bcd-a938-5574cfbd495b
DTSTAMP:20260422T031659Z
DESCRIPTION:Low-impact exercise classes.
DTSTART;TZID=America/Chicago:20291012T103000
DTEND;TZID=America/Chicago:20291012T113000
LOCATION:Kindred City Hall
SUMMARY:Kindred Bone Builders
END:VEVENT
END:VCALENDAR
