BEGIN:VCALENDAR
VERSION:2.0
PRODID:-//communityofcarend.com//NONSGML kigkonsult.se iCalcreator 2.30.10/
 /
CALSCALE:GREGORIAN
METHOD:PUBLISH
UID:7c475118-6c06-4420-925d-87fe4fbe0b1f
X-WR-CALDESC:Bone Builder Exercise Class
X-WR-RELCALID:0fbf72fa6aee7a9877722c11a4936b82
X-WR-TIMEZONE:America/Chicago
BEGIN:VTIMEZONE
TZID:America/Chicago
BEGIN:STANDARD
TZNAME:CST
DTSTART:20281105T020000
TZOFFSETFROM:-0500
TZOFFSETTO:-0600
RDATE:20291104T020000
RDATE:20301103T020000
END:STANDARD
BEGIN:DAYLIGHT
TZNAME:CDT
DTSTART:20290311T020000
TZOFFSETFROM:-0600
TZOFFSETTO:-0500
RDATE:20300310T020000
RDATE:20310309T020000
END:DAYLIGHT
END:VTIMEZONE
BEGIN:VEVENT
UID:f349329b-83a4-4c24-8b54-fac50ed131fc
DTSTAMP:20260422T020402Z
DESCRIPTION:Bone Builder Exercise Class
DTSTART;TZID=America/Chicago:20290917T100000
DTEND;TZID=America/Chicago:20290917T110000
LOCATION:Horace Senior Center
SUMMARY:Horace Bone Builders
END:VEVENT
END:VCALENDAR
