BEGIN:VCALENDAR
VERSION:2.0
PRODID:-//communityofcarend.com//NONSGML kigkonsult.se iCalcreator 2.30.10/
 /
CALSCALE:GREGORIAN
METHOD:PUBLISH
UID:92ca9767-1fb8-4bae-a3d0-fe25164482e5
X-WR-CALDESC:Low-impact exercise classes.
X-WR-RELCALID:b3501ddc3ca210ff7a4a4268253c7840
X-WR-TIMEZONE:America/Chicago
BEGIN:VTIMEZONE
TZID:America/Chicago
BEGIN:STANDARD
TZNAME:CST
DTSTART:20281105T020000
TZOFFSETFROM:-0500
TZOFFSETTO:-0600
RDATE:20291104T020000
RDATE:20301103T020000
END:STANDARD
BEGIN:DAYLIGHT
TZNAME:CDT
DTSTART:20290311T020000
TZOFFSETFROM:-0600
TZOFFSETTO:-0500
RDATE:20300310T020000
RDATE:20310309T020000
END:DAYLIGHT
END:VTIMEZONE
BEGIN:VEVENT
UID:4f2d1373-d90a-44f1-b3a5-6df56d6408bf
DTSTAMP:20260422T020358Z
DESCRIPTION:Low-impact exercise classes.
DTSTART;TZID=America/Chicago:20290914T103000
DTEND;TZID=America/Chicago:20290914T113000
LOCATION:Kindred City Hall
SUMMARY:Kindred Bone Builders
END:VEVENT
END:VCALENDAR
