BEGIN:VCALENDAR
VERSION:2.0
PRODID:-//communityofcarend.com//NONSGML kigkonsult.se iCalcreator 2.30.10/
 /
CALSCALE:GREGORIAN
METHOD:PUBLISH
UID:9af1b40b-f430-43ec-9d0f-cd791730a98a
X-WR-CALDESC:Bone Builder Exercise Class
X-WR-RELCALID:4deb37f2038cd46fd49701b7c4c764f3
X-WR-TIMEZONE:America/Chicago
BEGIN:VTIMEZONE
TZID:America/Chicago
BEGIN:STANDARD
TZNAME:CST
DTSTART:20281105T020000
TZOFFSETFROM:-0500
TZOFFSETTO:-0600
RDATE:20291104T020000
RDATE:20301103T020000
END:STANDARD
BEGIN:DAYLIGHT
TZNAME:CDT
DTSTART:20290311T020000
TZOFFSETFROM:-0600
TZOFFSETTO:-0500
RDATE:20300310T020000
RDATE:20310309T020000
END:DAYLIGHT
END:VTIMEZONE
BEGIN:VEVENT
UID:8b4a7c88-edc2-456d-86f1-361fafc05b0d
DTSTAMP:20260422T020238Z
DESCRIPTION:Bone Builder Exercise Class
DTSTART;TZID=America/Chicago:20290913T100000
DTEND;TZID=America/Chicago:20290913T110000
LOCATION:Horace Senior Center
SUMMARY:Horace Bone Builders
END:VEVENT
END:VCALENDAR
