BEGIN:VCALENDAR
VERSION:2.0
PRODID:-//communityofcarend.com//NONSGML kigkonsult.se iCalcreator 2.30.10/
 /
CALSCALE:GREGORIAN
METHOD:PUBLISH
UID:df9c26fa-80df-4200-8d3b-8532a4686303
X-WR-CALDESC:Low impact exercise class
X-WR-RELCALID:5cea674fcf0eb5ac03b3b8e3ea2799db
X-WR-TIMEZONE:America/Chicago
BEGIN:VTIMEZONE
TZID:America/Chicago
BEGIN:STANDARD
TZNAME:CST
DTSTART:20281105T020000
TZOFFSETFROM:-0500
TZOFFSETTO:-0600
RDATE:20291104T020000
RDATE:20301103T020000
END:STANDARD
BEGIN:DAYLIGHT
TZNAME:CDT
DTSTART:20290311T020000
TZOFFSETFROM:-0600
TZOFFSETTO:-0500
RDATE:20300310T020000
END:DAYLIGHT
END:VTIMEZONE
BEGIN:VEVENT
UID:677262f5-ecc6-415a-afca-aeacee4afdd0
DTSTAMP:20260422T020408Z
DESCRIPTION:Low impact exercise class
DTSTART;TZID=America/Chicago:20290903T103000
DTEND;TZID=America/Chicago:20290903T113000
LOCATION:Kindred City Hall
SUMMARY:Kindred Bone Builders
END:VEVENT
END:VCALENDAR
