BEGIN:VCALENDAR
VERSION:2.0
PRODID:-//communityofcarend.com//NONSGML kigkonsult.se iCalcreator 2.30.10/
 /
CALSCALE:GREGORIAN
METHOD:PUBLISH
UID:1fb403bd-6c7f-4d4a-85dc-18bc3da203b7
X-WR-CALDESC:
X-WR-RELCALID:07066c4e46bddf1b364c815baeb3d873
X-WR-TIMEZONE:America/Chicago
BEGIN:VTIMEZONE
TZID:America/Chicago
BEGIN:STANDARD
TZNAME:CST
DTSTART:20281105T020000
TZOFFSETFROM:-0500
TZOFFSETTO:-0600
RDATE:20291104T020000
RDATE:20301103T020000
END:STANDARD
BEGIN:DAYLIGHT
TZNAME:CDT
DTSTART:20290311T020000
TZOFFSETFROM:-0600
TZOFFSETTO:-0500
RDATE:20300310T020000
END:DAYLIGHT
END:VTIMEZONE
BEGIN:VEVENT
UID:4e8a55cd-edcc-4163-9f08-c9097d098078
DTSTAMP:20260422T004439Z
DESCRIPTION:
DTSTART;TZID=America/Chicago:20290830T100000
DTEND;TZID=America/Chicago:20290830T110000
LOCATION:Hunter Insurance  Building
SUMMARY:Hunter Bone Builders
END:VEVENT
END:VCALENDAR
