BEGIN:VCALENDAR
VERSION:2.0
PRODID:-//communityofcarend.com//NONSGML kigkonsult.se iCalcreator 2.30.10/
 /
CALSCALE:GREGORIAN
METHOD:PUBLISH
UID:776bb3e1-ef9d-4f28-a565-5fdbcf37cf0a
X-WR-CALDESC:Bone Builder Exercise Class
X-WR-RELCALID:5d309b9576862517f3c6f5320a37cdbf
X-WR-TIMEZONE:America/Chicago
BEGIN:VTIMEZONE
TZID:America/Chicago
BEGIN:STANDARD
TZNAME:CST
DTSTART:20281105T020000
TZOFFSETFROM:-0500
TZOFFSETTO:-0600
RDATE:20291104T020000
RDATE:20301103T020000
END:STANDARD
BEGIN:DAYLIGHT
TZNAME:CDT
DTSTART:20290311T020000
TZOFFSETFROM:-0600
TZOFFSETTO:-0500
RDATE:20300310T020000
END:DAYLIGHT
END:VTIMEZONE
BEGIN:VEVENT
UID:1d12bf96-83b6-4a38-9e44-a5b1d2061b45
DTSTAMP:20260422T010518Z
DESCRIPTION:Bone Builder Exercise Class
DTSTART;TZID=America/Chicago:20290823T100000
DTEND;TZID=America/Chicago:20290823T110000
LOCATION:Horace Senior Center
SUMMARY:Horace Bone Builders
END:VEVENT
END:VCALENDAR
