BEGIN:VCALENDAR
VERSION:2.0
PRODID:-//communityofcarend.com//NONSGML kigkonsult.se iCalcreator 2.30.10/
 /
CALSCALE:GREGORIAN
METHOD:PUBLISH
UID:8bc33b73-6b9f-474d-bdad-4a96cab557e0
X-WR-CALDESC:Low-impact exercise classes.
X-WR-RELCALID:4a71c1545f668422878d52607d31cbaf
X-WR-TIMEZONE:America/Chicago
BEGIN:VTIMEZONE
TZID:America/Chicago
BEGIN:STANDARD
TZNAME:CST
DTSTART:20281105T020000
TZOFFSETFROM:-0500
TZOFFSETTO:-0600
RDATE:20291104T020000
RDATE:20301103T020000
END:STANDARD
BEGIN:DAYLIGHT
TZNAME:CDT
DTSTART:20290311T020000
TZOFFSETFROM:-0600
TZOFFSETTO:-0500
RDATE:20300310T020000
END:DAYLIGHT
END:VTIMEZONE
BEGIN:VEVENT
UID:a8551818-383e-47dc-acf5-d568ec5a4982
DTSTAMP:20260422T005519Z
DESCRIPTION:Low-impact exercise classes.
DTSTART;TZID=America/Chicago:20290817T103000
DTEND;TZID=America/Chicago:20290817T113000
LOCATION:Kindred City Hall
SUMMARY:Kindred Bone Builders
END:VEVENT
END:VCALENDAR
