BEGIN:VCALENDAR
VERSION:2.0
PRODID:-//communityofcarend.com//NONSGML kigkonsult.se iCalcreator 2.30.10/
 /
CALSCALE:GREGORIAN
METHOD:PUBLISH
UID:219b43ac-138a-4eb5-b6ee-3aa753bfa1d7
X-WR-CALDESC:Bone Builder Exercise Class
X-WR-RELCALID:7bc2597d48f20a2b0cdbba070cd89e9b
X-WR-TIMEZONE:America/Chicago
BEGIN:VTIMEZONE
TZID:America/Chicago
BEGIN:STANDARD
TZNAME:CST
DTSTART:20281105T020000
TZOFFSETFROM:-0500
TZOFFSETTO:-0600
RDATE:20291104T020000
RDATE:20301103T020000
END:STANDARD
BEGIN:DAYLIGHT
TZNAME:CDT
DTSTART:20290311T020000
TZOFFSETFROM:-0600
TZOFFSETTO:-0500
RDATE:20300310T020000
END:DAYLIGHT
END:VTIMEZONE
BEGIN:VEVENT
UID:d111e03c-d50c-4e5e-b222-4f3428ba0bde
DTSTAMP:20260422T005331Z
DESCRIPTION:Bone Builder Exercise Class
DTSTART;TZID=America/Chicago:20290809T100000
DTEND;TZID=America/Chicago:20290809T110000
LOCATION:Horace Senior Center
SUMMARY:Horace Bone Builders
END:VEVENT
END:VCALENDAR
