BEGIN:VCALENDAR
VERSION:2.0
PRODID:-//communityofcarend.com//NONSGML kigkonsult.se iCalcreator 2.30.10/
 /
CALSCALE:GREGORIAN
METHOD:PUBLISH
UID:41cbc788-dcb5-4c12-bfe6-45721f92a204
X-WR-CALDESC:Low-impact exercise classes.
X-WR-RELCALID:f7012be1baf86341a44cbd9a97f79d09
X-WR-TIMEZONE:America/Chicago
BEGIN:VTIMEZONE
TZID:America/Chicago
BEGIN:STANDARD
TZNAME:CST
DTSTART:20281105T020000
TZOFFSETFROM:-0500
TZOFFSETTO:-0600
RDATE:20291104T020000
RDATE:20301103T020000
END:STANDARD
BEGIN:DAYLIGHT
TZNAME:CDT
DTSTART:20290311T020000
TZOFFSETFROM:-0600
TZOFFSETTO:-0500
RDATE:20300310T020000
END:DAYLIGHT
END:VTIMEZONE
BEGIN:VEVENT
UID:0aec67f7-a207-458d-a24d-239afeba8f18
DTSTAMP:20260422T005702Z
DESCRIPTION:Low-impact exercise classes.
DTSTART;TZID=America/Chicago:20290803T103000
DTEND;TZID=America/Chicago:20290803T113000
LOCATION:Kindred City Hall
SUMMARY:Kindred Bone Builders
END:VEVENT
END:VCALENDAR
