BEGIN:VCALENDAR
VERSION:2.0
PRODID:-//communityofcarend.com//NONSGML kigkonsult.se iCalcreator 2.30.10/
 /
CALSCALE:GREGORIAN
METHOD:PUBLISH
UID:b99d524b-3e52-4631-b8b3-a48f6ab53df5
X-WR-CALDESC:Bone Builder Exercise Class
X-WR-RELCALID:3c1a090373b154ad4c6f63f63006a0ea
X-WR-TIMEZONE:America/Chicago
BEGIN:VTIMEZONE
TZID:America/Chicago
BEGIN:STANDARD
TZNAME:CST
DTSTART:20281105T020000
TZOFFSETFROM:-0500
TZOFFSETTO:-0600
RDATE:20291104T020000
RDATE:20301103T020000
END:STANDARD
BEGIN:DAYLIGHT
TZNAME:CDT
DTSTART:20290311T020000
TZOFFSETFROM:-0600
TZOFFSETTO:-0500
RDATE:20300310T020000
END:DAYLIGHT
END:VTIMEZONE
BEGIN:VEVENT
UID:3ad08867-7bfb-4114-98a9-06d47c2426c8
DTSTAMP:20260421T234800Z
DESCRIPTION:Bone Builder Exercise Class
DTSTART;TZID=America/Chicago:20290726T100000
DTEND;TZID=America/Chicago:20290726T110000
LOCATION:Horace Senior Center
SUMMARY:Horace Bone Builders
END:VEVENT
END:VCALENDAR
