BEGIN:VCALENDAR
VERSION:2.0
PRODID:-//communityofcarend.com//NONSGML kigkonsult.se iCalcreator 2.30.10/
 /
CALSCALE:GREGORIAN
METHOD:PUBLISH
UID:e6ad1d82-d38b-4957-9f13-d4ae1a2594e7
X-WR-CALDESC:Low impact exercise class
X-WR-RELCALID:e51b745f86a125a201c6821c00982a72
X-WR-TIMEZONE:America/Chicago
BEGIN:VTIMEZONE
TZID:America/Chicago
BEGIN:STANDARD
TZNAME:CST
DTSTART:20281105T020000
TZOFFSETFROM:-0500
TZOFFSETTO:-0600
RDATE:20291104T020000
RDATE:20301103T020000
END:STANDARD
BEGIN:DAYLIGHT
TZNAME:CDT
DTSTART:20290311T020000
TZOFFSETFROM:-0600
TZOFFSETTO:-0500
RDATE:20300310T020000
END:DAYLIGHT
END:VTIMEZONE
BEGIN:VEVENT
UID:47fcf004-fb92-4da3-bf26-dba8ae436f2d
DTSTAMP:20260421T234544Z
DESCRIPTION:Low impact exercise class
DTSTART;TZID=America/Chicago:20290709T103000
DTEND;TZID=America/Chicago:20290709T113000
LOCATION:Kindred City Hall
SUMMARY:Kindred Bone Builders
END:VEVENT
END:VCALENDAR
