BEGIN:VCALENDAR
VERSION:2.0
PRODID:-//communityofcarend.com//NONSGML kigkonsult.se iCalcreator 2.30.10/
 /
CALSCALE:GREGORIAN
METHOD:PUBLISH
UID:dfd8726e-f2cb-47b3-a241-9689f51d177f
X-WR-CALDESC:
X-WR-RELCALID:65fbee4413da2aa6e7f5756db76824d1
X-WR-TIMEZONE:America/Chicago
BEGIN:VTIMEZONE
TZID:America/Chicago
BEGIN:STANDARD
TZNAME:CST
DTSTART:20281105T020000
TZOFFSETFROM:-0500
TZOFFSETTO:-0600
RDATE:20291104T020000
RDATE:20301103T020000
END:STANDARD
BEGIN:DAYLIGHT
TZNAME:CDT
DTSTART:20290311T020000
TZOFFSETFROM:-0600
TZOFFSETTO:-0500
RDATE:20300310T020000
END:DAYLIGHT
END:VTIMEZONE
BEGIN:VEVENT
UID:e2686b42-15f6-491b-aa65-121429827b3a
DTSTAMP:20260421T234735Z
DESCRIPTION:
DTSTART;TZID=America/Chicago:20290705T130000
DTEND;TZID=America/Chicago:20290705T140000
LOCATION:Harwood Community Center
SUMMARY:Harwood Bone Builders
END:VEVENT
END:VCALENDAR
