BEGIN:VCALENDAR
VERSION:2.0
PRODID:-//communityofcarend.com//NONSGML kigkonsult.se iCalcreator 2.30.10/
 /
CALSCALE:GREGORIAN
METHOD:PUBLISH
UID:594c60e1-613a-4504-a576-55db8b353307
X-WR-CALDESC:Bone Builder Exercise Class
X-WR-RELCALID:d8564e77a94dc5b1a3b6ff3481b17552
X-WR-TIMEZONE:America/Chicago
BEGIN:VTIMEZONE
TZID:America/Chicago
BEGIN:STANDARD
TZNAME:CST
DTSTART:20281105T020000
TZOFFSETFROM:-0500
TZOFFSETTO:-0600
RDATE:20291104T020000
RDATE:20301103T020000
END:STANDARD
BEGIN:DAYLIGHT
TZNAME:CDT
DTSTART:20290311T020000
TZOFFSETFROM:-0600
TZOFFSETTO:-0500
RDATE:20300310T020000
END:DAYLIGHT
END:VTIMEZONE
BEGIN:VEVENT
UID:15b545bc-7b33-45ae-b1ab-4a043c384b0b
DTSTAMP:20260421T234657Z
DESCRIPTION:Bone Builder Exercise Class
DTSTART;TZID=America/Chicago:20290705T100000
DTEND;TZID=America/Chicago:20290705T110000
LOCATION:Horace Senior Center
SUMMARY:Horace Bone Builders
END:VEVENT
END:VCALENDAR
