BEGIN:VCALENDAR
VERSION:2.0
PRODID:-//communityofcarend.com//NONSGML kigkonsult.se iCalcreator 2.30.10/
 /
CALSCALE:GREGORIAN
METHOD:PUBLISH
UID:4cdeb97b-ad12-41bf-9b31-1ed510cd7806
X-WR-CALDESC:Low impact exercise class
X-WR-RELCALID:151aff8a96e3add7a82d03b7e6448903
X-WR-TIMEZONE:America/Chicago
BEGIN:VTIMEZONE
TZID:America/Chicago
BEGIN:STANDARD
TZNAME:CST
DTSTART:20281105T020000
TZOFFSETFROM:-0500
TZOFFSETTO:-0600
RDATE:20291104T020000
RDATE:20301103T020000
END:STANDARD
BEGIN:DAYLIGHT
TZNAME:CDT
DTSTART:20290311T020000
TZOFFSETFROM:-0600
TZOFFSETTO:-0500
RDATE:20300310T020000
END:DAYLIGHT
END:VTIMEZONE
BEGIN:VEVENT
UID:f2ea9da4-98ae-472f-872a-a9fe6ca36ee1
DTSTAMP:20260421T234140Z
DESCRIPTION:Low impact exercise class
DTSTART;TZID=America/Chicago:20290702T103000
DTEND;TZID=America/Chicago:20290702T113000
LOCATION:Kindred City Hall
SUMMARY:Kindred Bone Builders
END:VEVENT
END:VCALENDAR
