BEGIN:VCALENDAR
VERSION:2.0
PRODID:-//communityofcarend.com//NONSGML kigkonsult.se iCalcreator 2.30.10/
 /
CALSCALE:GREGORIAN
METHOD:PUBLISH
UID:fc911277-f141-4022-a0e3-5a6c006a4233
X-WR-CALDESC:
X-WR-RELCALID:a8afc1ac157203e2a9021c75bb1ede5d
X-WR-TIMEZONE:America/Chicago
BEGIN:VTIMEZONE
TZID:America/Chicago
BEGIN:STANDARD
TZNAME:CST
DTSTART:20281105T020000
TZOFFSETFROM:-0500
TZOFFSETTO:-0600
RDATE:20291104T020000
RDATE:20301103T020000
END:STANDARD
BEGIN:DAYLIGHT
TZNAME:CDT
DTSTART:20290311T020000
TZOFFSETFROM:-0600
TZOFFSETTO:-0500
RDATE:20300310T020000
END:DAYLIGHT
END:VTIMEZONE
BEGIN:VEVENT
UID:23087382-ae7e-4432-974d-32e244f36be8
DTSTAMP:20260421T220336Z
DESCRIPTION:
DTSTART;TZID=America/Chicago:20290625T100000
DTEND;TZID=America/Chicago:20290625T110000
LOCATION:Hunter Insurance  Building
SUMMARY:Hunter Bone Builders
END:VEVENT
END:VCALENDAR
