BEGIN:VCALENDAR
VERSION:2.0
PRODID:-//communityofcarend.com//NONSGML kigkonsult.se iCalcreator 2.30.10/
 /
CALSCALE:GREGORIAN
METHOD:PUBLISH
UID:d9979df2-57e5-476a-8cf5-fbdb4a998e5d
X-WR-CALDESC:Low impact exercise class
X-WR-RELCALID:1f5e3de4fa7ad56db11caa5d124e34a2
X-WR-TIMEZONE:America/Chicago
BEGIN:VTIMEZONE
TZID:America/Chicago
BEGIN:STANDARD
TZNAME:CST
DTSTART:20281105T020000
TZOFFSETFROM:-0500
TZOFFSETTO:-0600
RDATE:20291104T020000
RDATE:20301103T020000
END:STANDARD
BEGIN:DAYLIGHT
TZNAME:CDT
DTSTART:20290311T020000
TZOFFSETFROM:-0600
TZOFFSETTO:-0500
RDATE:20300310T020000
END:DAYLIGHT
END:VTIMEZONE
BEGIN:VEVENT
UID:9dd3ab51-6079-442a-992e-d78a4edcae3c
DTSTAMP:20260421T221343Z
DESCRIPTION:Low impact exercise class
DTSTART;TZID=America/Chicago:20290618T103000
DTEND;TZID=America/Chicago:20290618T113000
LOCATION:Kindred City Hall
SUMMARY:Kindred Bone Builders
END:VEVENT
END:VCALENDAR
