BEGIN:VCALENDAR
VERSION:2.0
PRODID:-//communityofcarend.com//NONSGML kigkonsult.se iCalcreator 2.30.10/
 /
CALSCALE:GREGORIAN
METHOD:PUBLISH
UID:cb328b4e-4538-43d8-a1d8-4e02988af381
X-WR-CALDESC:Bone Builder Exercise Class
X-WR-RELCALID:6e36ba89bef2cf62e17a8bfa95587829
X-WR-TIMEZONE:America/Chicago
BEGIN:VTIMEZONE
TZID:America/Chicago
BEGIN:STANDARD
TZNAME:CST
DTSTART:20281105T020000
TZOFFSETFROM:-0500
TZOFFSETTO:-0600
RDATE:20291104T020000
RDATE:20301103T020000
END:STANDARD
BEGIN:DAYLIGHT
TZNAME:CDT
DTSTART:20290311T020000
TZOFFSETFROM:-0600
TZOFFSETTO:-0500
RDATE:20300310T020000
END:DAYLIGHT
END:VTIMEZONE
BEGIN:VEVENT
UID:df2a13c4-dd2b-48cc-aacb-88516c372acc
DTSTAMP:20260421T221535Z
DESCRIPTION:Bone Builder Exercise Class
DTSTART;TZID=America/Chicago:20290618T100000
DTEND;TZID=America/Chicago:20290618T110000
LOCATION:Horace Senior Center
SUMMARY:Horace Bone Builders
END:VEVENT
END:VCALENDAR
