BEGIN:VCALENDAR
VERSION:2.0
PRODID:-//communityofcarend.com//NONSGML kigkonsult.se iCalcreator 2.30.10/
 /
CALSCALE:GREGORIAN
METHOD:PUBLISH
UID:065e3e28-e9ae-42c4-993a-1f79a917e9be
X-WR-CALDESC:Bone Builder Exercise Class
X-WR-RELCALID:887d48cd2b02bb12dd18cc86fdf09f77
X-WR-TIMEZONE:America/Chicago
BEGIN:VTIMEZONE
TZID:America/Chicago
BEGIN:STANDARD
TZNAME:CST
DTSTART:20281105T020000
TZOFFSETFROM:-0500
TZOFFSETTO:-0600
RDATE:20291104T020000
RDATE:20301103T020000
END:STANDARD
BEGIN:DAYLIGHT
TZNAME:CDT
DTSTART:20290311T020000
TZOFFSETFROM:-0600
TZOFFSETTO:-0500
RDATE:20300310T020000
END:DAYLIGHT
END:VTIMEZONE
BEGIN:VEVENT
UID:8c48c373-1741-42fa-9a11-a9f816fca83e
DTSTAMP:20260421T221540Z
DESCRIPTION:Bone Builder Exercise Class
DTSTART;TZID=America/Chicago:20290611T100000
DTEND;TZID=America/Chicago:20290611T110000
LOCATION:Horace Senior Center
SUMMARY:Horace Bone Builders
END:VEVENT
END:VCALENDAR
