BEGIN:VCALENDAR
VERSION:2.0
PRODID:-//communityofcarend.com//NONSGML kigkonsult.se iCalcreator 2.30.10/
 /
CALSCALE:GREGORIAN
METHOD:PUBLISH
UID:bf1baee0-31ce-41c7-9ea8-0544c9f29860
X-WR-CALDESC:Low impact exercise class
X-WR-RELCALID:74ff3e8e151919a5e519633d00b52f49
X-WR-TIMEZONE:America/Chicago
BEGIN:VTIMEZONE
TZID:America/Chicago
BEGIN:STANDARD
TZNAME:CST
DTSTART:20281105T020000
TZOFFSETFROM:-0500
TZOFFSETTO:-0600
RDATE:20291104T020000
RDATE:20301103T020000
END:STANDARD
BEGIN:DAYLIGHT
TZNAME:CDT
DTSTART:20290311T020000
TZOFFSETFROM:-0600
TZOFFSETTO:-0500
RDATE:20300310T020000
END:DAYLIGHT
END:VTIMEZONE
BEGIN:VEVENT
UID:526cbd08-0f10-46e9-8f32-2034743cbbd9
DTSTAMP:20260421T221139Z
DESCRIPTION:Low impact exercise class
DTSTART;TZID=America/Chicago:20290604T103000
DTEND;TZID=America/Chicago:20290604T113000
LOCATION:Kindred City Hall
SUMMARY:Kindred Bone Builders
END:VEVENT
END:VCALENDAR
