BEGIN:VCALENDAR
VERSION:2.0
PRODID:-//communityofcarend.com//NONSGML kigkonsult.se iCalcreator 2.30.10/
 /
CALSCALE:GREGORIAN
METHOD:PUBLISH
UID:cd3f7f7e-b534-4baf-a4a6-52c1e2ce01d4
X-WR-CALDESC:Low-impact exercise classes.
X-WR-RELCALID:dd8ecfbe57dd2cdc40edc8d198813702
X-WR-TIMEZONE:America/Chicago
BEGIN:VTIMEZONE
TZID:America/Chicago
BEGIN:STANDARD
TZNAME:CST
DTSTART:20281105T020000
TZOFFSETFROM:-0500
TZOFFSETTO:-0600
RDATE:20291104T020000
RDATE:20301103T020000
END:STANDARD
BEGIN:DAYLIGHT
TZNAME:CDT
DTSTART:20290311T020000
TZOFFSETFROM:-0600
TZOFFSETTO:-0500
RDATE:20300310T020000
END:DAYLIGHT
END:VTIMEZONE
BEGIN:VEVENT
UID:53d9fa36-81d7-40ee-9c93-a0a622bd1eb4
DTSTAMP:20260421T221342Z
DESCRIPTION:Low-impact exercise classes.
DTSTART;TZID=America/Chicago:20290601T103000
DTEND;TZID=America/Chicago:20290601T113000
LOCATION:Kindred City Hall
SUMMARY:Kindred Bone Builders
END:VEVENT
END:VCALENDAR
