BEGIN:VCALENDAR
VERSION:2.0
PRODID:-//communityofcarend.com//NONSGML kigkonsult.se iCalcreator 2.30.10/
 /
CALSCALE:GREGORIAN
METHOD:PUBLISH
UID:206ca6a5-5291-4886-8ecb-d43169d61026
X-WR-CALDESC:Bone Builder Exercise Class
X-WR-RELCALID:e814648af1f8006a9e9653fa1e3fd3f7
X-WR-TIMEZONE:America/Chicago
BEGIN:VTIMEZONE
TZID:America/Chicago
BEGIN:STANDARD
TZNAME:CST
DTSTART:20281105T020000
TZOFFSETFROM:-0500
TZOFFSETTO:-0600
RDATE:20291104T020000
RDATE:20301103T020000
END:STANDARD
BEGIN:DAYLIGHT
TZNAME:CDT
DTSTART:20290311T020000
TZOFFSETFROM:-0600
TZOFFSETTO:-0500
RDATE:20300310T020000
END:DAYLIGHT
END:VTIMEZONE
BEGIN:VEVENT
UID:33151054-cfb9-4d8a-8dae-5ad1652cfc1c
DTSTAMP:20260421T204457Z
DESCRIPTION:Bone Builder Exercise Class
DTSTART;TZID=America/Chicago:20290531T100000
DTEND;TZID=America/Chicago:20290531T110000
LOCATION:Horace Senior Center
SUMMARY:Horace Bone Builders
END:VEVENT
END:VCALENDAR
