BEGIN:VCALENDAR
VERSION:2.0
PRODID:-//communityofcarend.com//NONSGML kigkonsult.se iCalcreator 2.30.10/
 /
CALSCALE:GREGORIAN
METHOD:PUBLISH
UID:5c68a1dc-7360-43e8-89c0-b601dca20351
X-WR-CALDESC:Low-impact exercise classes.
X-WR-RELCALID:33ae18b8be46dd0e47eb5c7d167f144f
X-WR-TIMEZONE:America/Chicago
BEGIN:VTIMEZONE
TZID:America/Chicago
BEGIN:STANDARD
TZNAME:CST
DTSTART:20281105T020000
TZOFFSETFROM:-0500
TZOFFSETTO:-0600
RDATE:20291104T020000
RDATE:20301103T020000
END:STANDARD
BEGIN:DAYLIGHT
TZNAME:CDT
DTSTART:20290311T020000
TZOFFSETFROM:-0600
TZOFFSETTO:-0500
RDATE:20300310T020000
END:DAYLIGHT
END:VTIMEZONE
BEGIN:VEVENT
UID:debf3834-6aa7-4741-a800-5ef3320628b0
DTSTAMP:20260421T204924Z
DESCRIPTION:Low-impact exercise classes.
DTSTART;TZID=America/Chicago:20290525T103000
DTEND;TZID=America/Chicago:20290525T113000
LOCATION:Kindred City Hall
SUMMARY:Kindred Bone Builders
END:VEVENT
END:VCALENDAR
