BEGIN:VCALENDAR
VERSION:2.0
PRODID:-//communityofcarend.com//NONSGML kigkonsult.se iCalcreator 2.30.10/
 /
CALSCALE:GREGORIAN
METHOD:PUBLISH
UID:7800e1e0-4527-48b7-bf60-4b2a8b3a7417
X-WR-CALDESC:Low-impact exercise classes.
X-WR-RELCALID:b17bb00daf549ad6ffed387972c3c72d
X-WR-TIMEZONE:America/Chicago
BEGIN:VTIMEZONE
TZID:America/Chicago
BEGIN:STANDARD
TZNAME:CST
DTSTART:20281105T020000
TZOFFSETFROM:-0500
TZOFFSETTO:-0600
RDATE:20291104T020000
RDATE:20301103T020000
END:STANDARD
BEGIN:DAYLIGHT
TZNAME:CDT
DTSTART:20290311T020000
TZOFFSETFROM:-0600
TZOFFSETTO:-0500
RDATE:20300310T020000
END:DAYLIGHT
END:VTIMEZONE
BEGIN:VEVENT
UID:820f18a1-99ba-4855-a551-dd0ef039c963
DTSTAMP:20260421T204403Z
DESCRIPTION:Low-impact exercise classes.
DTSTART;TZID=America/Chicago:20290518T103000
DTEND;TZID=America/Chicago:20290518T113000
LOCATION:Kindred City Hall
SUMMARY:Kindred Bone Builders
END:VEVENT
END:VCALENDAR
