BEGIN:VCALENDAR
VERSION:2.0
PRODID:-//communityofcarend.com//NONSGML kigkonsult.se iCalcreator 2.30.10/
 /
CALSCALE:GREGORIAN
METHOD:PUBLISH
UID:b31e75ef-4266-4307-ab26-4a8b1db7f65d
X-WR-CALDESC:Low impact exercise class
X-WR-RELCALID:162d9aa831b1df97fc0be31531e9f34e
X-WR-TIMEZONE:America/Chicago
BEGIN:VTIMEZONE
TZID:America/Chicago
BEGIN:STANDARD
TZNAME:CST
DTSTART:20281105T020000
TZOFFSETFROM:-0500
TZOFFSETTO:-0600
RDATE:20291104T020000
RDATE:20301103T020000
END:STANDARD
BEGIN:DAYLIGHT
TZNAME:CDT
DTSTART:20290311T020000
TZOFFSETFROM:-0600
TZOFFSETTO:-0500
RDATE:20300310T020000
END:DAYLIGHT
END:VTIMEZONE
BEGIN:VEVENT
UID:1d7c424c-caeb-4346-a8ac-5ec87c19c20a
DTSTAMP:20260421T204308Z
DESCRIPTION:Low impact exercise class
DTSTART;TZID=America/Chicago:20290514T103000
DTEND;TZID=America/Chicago:20290514T113000
LOCATION:Kindred City Hall
SUMMARY:Kindred Bone Builders
END:VEVENT
END:VCALENDAR
